BEGIN:VCALENDAR
VERSION:2.0
PRODID:-//Un año entre culturas - ECPv6.10.1.1//NONSGML v1.0//EN
CALSCALE:GREGORIAN
METHOD:PUBLISH
X-ORIGINAL-URL:https://entreculturasuhu.com
X-WR-CALDESC:Eventos para Un año entre culturas
REFRESH-INTERVAL;VALUE=DURATION:PT1H
X-Robots-Tag:noindex
X-PUBLISHED-TTL:PT1H
BEGIN:VTIMEZONE
TZID:UTC
BEGIN:STANDARD
TZOFFSETFROM:+0000
TZOFFSETTO:+0000
TZNAME:UTC
DTSTART:20240101T000000
END:STANDARD
END:VTIMEZONE
BEGIN:VEVENT
DTSTART;VALUE=DATE:20240920
DTEND;VALUE=DATE:20240921
DTSTAMP:20260420T011705
CREATED:20240923T105834Z
LAST-MODIFIED:20241029T093915Z
UID:22318-1726790400-1726876799@entreculturasuhu.com
SUMMARY:Participantes de Huelva Acoge visitan el Museo Pedagógico\, la Biblioteca Central\, Uniradio y MediaLab de la Universidad de Huelva
DESCRIPTION:El 20 de septiembre de 2024 visitamos con personas participantes de Huelva Acoge el Museo Pedagógico\, la Biblioteca Central\, Uniradio y MediaLab de la Universidad de Huelva.  \nEsta visita ha sido una excelente oportunidad de acercar a personas de diferentes nacionalidades a la Universidad como espacio de encuentro. \nEsta actividad se encuadra dentro del proyecto Un año entre culturas. Un año entre culturas. La comunidad universitaria de Huelva\, potenciadora de la cooperación con los países del Sur y la interculturalidad\, financiado por la Agencia Andaluza de Cooperación para el Desarrollo.
URL:https://entreculturasuhu.com/evento/participantes-de-huelva-acoge-visitan-el-museo-pedagogico-la-biblioteca-central-uniradio-y-medialab-de-la-universidad-de-huelva/
LOCATION:Universidad de Huelva\, Av. del Tres de Marzo\, 3\, Huelva\, Huelva\, 21004\, España
CATEGORIES:Cultural,Red de voluntariado universitario por la interculturalidad
ATTACH;FMTTYPE=image/jpeg:https://entreculturasuhu.com/wp-content/uploads/2024/10/rriiuhu-241024-1920x1080-Blog-scaled.jpg
END:VEVENT
END:VCALENDAR